Workbook
Name _Hlk207793680: 'اطلاعات پیمانکار'!$A$197

Sheet اطلاعات پیمانکار
A1: شرکت فولاد مبارکه | C1: فرم ارزيابي کيفـي (تعمیرات خارج از فنس فولاد) | I1: تاريخ:05/08/1405
I2: شماره:
I3: صفحه 1 از 14
A4: شماره مناقصه عمومی : | B4: 48644840 | E4: برآورد مناقصه : | H4: 1850000000000
A5: موضوع مناقصه : | B5: راهبری کوره های دولومیت و تامین دولومیت مورد نیاز شرکت فولاد مبارکه
A6: ضمن عرض سلام؛
A7: از اینکه تمایل خود را جهت همکاری با مجتمع فولاد مبارکه اصفهان اعلام می­دارید کمال تشکر را داریم.
A8: لطفا با توجه به نوع فعاليت خود، نسبت به تكميل اطلاعات مندرج در چك ليست زير اقدام فرماييد. تأمين کننده (مدير عامل يا رئيس هيئت مديره) متعهد مي‌باشد کليه موارد مندرج در فرم را تکميل و به امضاهای مجاز رسانده و هم­چنین به مهر شرکت ممهور گرداند.
A9: در صورت نیاز به اطلاعات بیشتر می­توانید با شرکت فولاد مبارکه اصفهان (شماره تلفن مندرج در آگهي) تماس حاصل فرمایید.
A10: اطلاعات عمومی
A11: موضوع اساسنامه (*):
A12: مشخصات پيمانكار:
A13: نام قانوني (شرکت): | H13: تاريخ تاسيس:
A14: کد تأمين کننده: . . . . . . . . . . . . . . . . . . . . . . . . . . . . .
A15: نوع مالکيت: دولتی خصوصی تحت پوشش
A16: وضعيت حقوقي/حقيقي: سهامی عام سهامی خاص مسئوليت محدود ساير با ذکر نام: . . . . . . . . . . . . . . . . .
A17: گرايش و رتبه بندي سازمان مدیریت و برنامه‌ریزی کشور :
A18: آدرس (ها) و خطوط ارتباطي شرکت، شعب و نمايندگي (ها)، شرکت مادر و گروه شرکت هاي وابسته:
A20: پست الكترونيكي | B20: تلفن همراه | C20: فاكس | D20: تلفن به همراه كد | E20: آدرس | H20: شهر | I20: استان | J20: نوع آدرس
J21: دفتر مركزي
J22: کارخانه يا کارگاه
A23: *در صورت عدم انطباق موضوع اساسنامه با موضوع فراخوان، پیمانکار مورد ارزيابي کيفي قرار نگرفته و شرکت فولادمبارکه هيچگونه مسئوليتي در اين خصوص نخواهد داشت
A24: لیست اسناد و مدارک عمومی ارزیابی کیفی مناقصه گزاران که می بایست تحویل کارفرما گردد.
A25: مناقصه گزاران محترم ؛ لطفاً مستندات به صورت 4 فایل جداگانه با تیتر های توان اجرایی (تجربه و سابقه)،توان مالی توان تجهیزاتی و توان مدیریتی به صورت PDF به ترتیب ردیفهای جداول مندرج در این فایل در سیستم بارگذاری گردد. در غیر اینصورت ترتیب اثر داده نخواهد شد.
D27: چک لیست مناقصه گر | F27: چک لیست مناقصه گزار (کارفرما)
D28: وضعیت کنترل اسناد | F28: وضعیت کنترل اسناد
A29: نام فرم ارزیابی | C29: عنوان سند/ مدرک/ گواهی | D29: ارائه گردید | E29: ارائه نگردید | F29: تکمیل است | G29: ناقص است | H29: عدم ارائه | I29: توضیحات
A31: اسناد و مدارک عمومی ارزیابی کیفی مناقصه گزاران | B31: 1 | C31: نامه درخواست شرکت متقاضی/ مناقصه‌گزار جهت شرکت در مناقصه
B32: 2 | C32: اساسنامه شرکت
C33: *برای مناقصاتی که موضوع قرارداد در کارگاه پیمانکار انجام میگردد ارسال پروانه ی بهره برداری الزامی میباشد.
B34: 3 | C34: روزنامه رسمی آگهی تاسیس شرکت
B35: 4 | C35: روزنامه رسمی آگهی آخرین تغییرات شرکت
B36: 5 | C36: تصویرشناسنامه و کارت ملی آخرین اعضا هیات مدیره شرکت
B37: 6 | C37: تصویر کد اقتصادی و شناسه ملی شرکت مناقصه گزار
B38: 7 | C38: صلاحیت اداره کار و امور اجتماعی مرتبط با موضوع مناقصه و دارای اعتبار زمانی
B39: 8 | C39: تصویر گواهی تشخیص صلاحیت و رتبه بندی از سازمان مدیریت و برنامه ریزی کشور
B40: 9 | C40: گواهی نامه های سیستم‌های مدیریتی
B41: 10 | C41: سوابق اجرایی پیمانکار
B42: 11 | C42: لیست مشخصات هیات مدیره و افراد کلیدی در سازمان مناقصه گر
A44: نکات عمومی و قابل توجه :
...

Sheet Sheet1
A2: 1406
A3: 1405 | B3: 1
A4: 1404 | B4: 2 | C4: 100
A5: 1403 | B5: 3 | C5: 70
A6: 1402 | B6: 4 | C6: 40
A7: 1401 | B7: 5 | C7: 20
B8: 6
B9: 7
B10: 8
B11: 9
B12: 10
B13: 11
B14: 12

Sheet Sheet2
A3: بله | B3: کارشناس مکانیک | C3: دکترا
A4: خیر | B4: کارشناس برق | C4: فوق لیسانس
B5: کارشناس راه و ساختمان | C5: کارشناس
B6: تکنسین | C6: فوق دیپلم
B7: تخصص در تعمیرات | C7: دیپلم
B8: سایر | C8: زیر دیپلم

Sheet c
B1: بسمه تعالی
B2: موضوع مناقصه : | C2: =b!B2 -> راهبری کوره های دولومیت و تامین دولومیت مورد نیاز شرکت فولاد مبارکه
B3: شماره درخواست: | C3: =b!K2 -> 48644840
B4: مبلغ درخواست : | C4: =b!N3 -> 1850000000000
B5: ناحیه متقاضی : | C5: =b!F3 -> 0
B6: حداقل امتیاز قابل قبول: | C6: (هفتاد از یکصد) 70
B7: تایید کنندگان :
B8: در این جلسه نتایج ارزیابی پیمانکاران توسط گروه کارشناسی بررسی گردید و نتایج زیر بدست امد.
B9: میانگین نمره ارزیابی پیمانکاران از لحاظ فنی و بازرگانی به شرح زیر می باشد:
A12: نام شیت | B12: نام مناقصه گر | C12: نمره کل | D12: میانگین نمرات ارزیابی از 100 | E12: توضیحات
D13: =IF(tblSummary[[#This Row],[نمره کل]]=0,"غيره مرتبط مي باشد",IF(tblSummary[[#This Row],[نمره کل]]>=70,"حدنصاب امتياز قابل قبول مي‌باشد","مورد تاييد نمي‌باشد")) -> غيره مرتبط مي باشد
B15: تعمیرگاه مرکزی | D15: امور قراردادها
B16: مدیر ناحیه | D16: مدیر امور قراردادها
B17: رئیس گروه فنی | D17: رئیس امور قراردادها
B18: رئیس کارگاه | D18: کارشناس امور قراردادها
B19: کارشناس گروه فنی | D19: تکنسین امور قراردادها
B20: کارشناس کارگاه

Sheet b
A1: بسمه تعالی
A2: موضوع مناقصه: | B2: ='اطلاعات پیمانکار'!B5 -> راهبری کوره های دولومیت و تامین دولومیت مورد نیاز شرکت فولاد مبارکه | J2: شماره درخواست: | K2: ='اطلاعات پیمانکار'!B4 -> 48644840 | N2: تاریخ ارزیابی: 1405/04/01
A3: نام مناقصه گر: | B3: ='اطلاعات پیمانکار'!B13:G13 -> 0 | E3: مدیریت درخواست کننده: | K3: مبلغ برآورد مناقصه(ریال): | N3: ='اطلاعات پیمانکار'!H4 -> 1850000000000
A4: *کابر محترم فیلدهایی که با رنگ زرد مشخص شده را تکمیل نمائید*
B5: 1 | C5: ضریب قراردادهای مشابه | D5: 0.7 | I5: 2 | J5: 3 | K5: 4 | M5: 5 | N5: 6
A6: معیار | B6: وزن معیار | C6: پارامتر ارزیابی | D6: موضوع قرارداد | E6: مبلغ قراردادها | F6: انتخاب (مشابه/مرتبط/غیره مرتبط) | G6: ضریب قراردادهای مشابه | H6: مبلغ قرارداد با ضریب مشابه | I6: مشابه (100% )معادل25 امتیاز | J6: مرتبط ( 60%) معادل 15 امتیاز | K6: غیر مرتبط ( 30%) معادل 6 امتیاز | L6: جمع امتیاز مشابه | M6: امتیاز پارامتر از معیار | N6: نمره ارزیابی | O6: توضیحات | U6: _
A7: توان اجرایی(سابقه) | B7: ='اطلاعات پیمانکار'!J61 -> 0.35 | C7: قرارداد اول | D7: ='اطلاعات پیمانکار'!B74 -> 0 | E7: =(IFERROR(('اطلاعات پیمانکار'!H74)*(1.3^(1405-'اطلاعات پیمانکار'!E74)),0)) -> 0 | F7: مشابه | G7: =$D$5 -> 0.7 | H7: =G7*$N$3 -> 1295000000000 | I7: =MIN(IF((F7="مشابه "),(E7/H7)*25,0),25) -> 0 | J7: =MIN(IF((F7="مرتبط"),(E7/$N$3)*15,0),15) -> 0 | K7: =MIN(IF((F7="غیره مرتبط"),(E7/$N$3)*6,0),6) -> 0 | L7: =I7 -> 0 | M7: =SUM(I7:K7) -> 0 | N7: =IF(L11>=60,100*B7,M11*B7) -> 0 | U7: مشابه
C8: قرارداد دوم | D8: ='اطلاعات پیمانکار'!B75 -> 0 | E8: =(IFERROR(('اطلاعات پیمانکار'!H75)*(1.3^(1405-'اطلاعات پیمانکار'!E75)),0)) -> 0 | F8: مشابه | G8: =$D$5 -> 0.7 | H8: =G8*$N$3 -> 1295000000000 | I8: =MIN(IF((F8="مشابه "),(E8/H8)*25,0),25) -> 0 | J8: =MIN(IF((F8="مرتبط"),(E8/$N$3)*15,0),15) -> 0 | K8: =MIN(IF((F8="غیره مرتبط"),(E8/$N$3)*6,0),6) -> 0 | L8: =I8 -> 0 | M8: =SUM(I8:K8) -> 0 | U8: مرتبط
C9: قرارداد سوم | D9: ='اطلاعات پیمانکار'!B76 -> 0 | E9: =(IFERROR(('اطلاعات پیمانکار'!H76)*(1.3^(1405-'اطلاعات پیمانکار'!E76)),0)) -> 0 | F9: مرتبط | G9: =$D$5 -> 0.7 | H9: =G9*$N$3 -> 1295000000000 | I9: =MIN(IF((F9="مشابه "),(E9/H9)*25,0),25) -> 0 | J9: =MIN(IF((F9="مرتبط"),(E9/$N$3)*15,0),15) -> 0 | K9: =MIN(IF((F9="غیره مرتبط"),(E9/$N$3)*6,0),6) -> 0 | L9: =I9 -> 0 | M9: =SUM(I9:K9) -> 0 | U9: غیره مرتبط
C10: قراردادچهارم | D10: ='اطلاعات پیمانکار'!B77 -> 0 | E10: =(IFERROR(('اطلاعات پیمانکار'!H77)*(1.3^(1405-'اطلاعات پیمانکار'!E77)),0)) -> 0 | F10: مرتبط | G10: =$D$5 -> 0.7 | H10: =G10*$N$3 -> 1295000000000 | I10: =MIN(IF((F10="مشابه "),(E10/H10)*25,0),25) -> 0 | J10: =MIN(IF((F10="مرتبط"),(E10/$N$3)*15,0),15) -> 0 | K10: =MIN(IF((F10="غیره مرتبط"),(E10/$N$3)*6,0),6) -> 0 | L10: =I10 -> 0 | M10: =SUM(I10:K10) -> 0
I11: =MIN(IF((F11="مشابه "),(E11/H11)*25,0),25) -> 0 | L11: =SUM(L7:L10) -> 0 | M11: =SUM(M7:M10) -> 0
I12: =MIN(IF((F12="مشابه "),(E12/H12)*25,0),25) -> 0
I13: =MIN(IF((F13="مشابه "),(E13/H13)*25,0),25) -> 0 | J13: 1 | K13: 2 | M13: 3 | N13: 4
C14: انتخاب یکی از پارامترهای ارزیابی | E14: انتخاب گزینه
C15: صورتهای مالی حسابرسی شده | P15: =B2 -> راهبری کوره های دولومیت و تامین دولومیت مورد نیاز شرکت فولاد مبارکه | Q15: =B3 -> 0
C16: بر اساس اظهارنامه مالیاتی (صرفا توسط اشخاص حقیقی تکمیل گردد) | P16: =B3 -> 0 | Q16: =#REF! -> #REF!
J17: =SUM(J15:M16) -> 0
A18: معیار | B18: وزن معیار | C18: معیار | D18: مبلغ معیار به ریال | E18: پارامتر | F18: امتیاز از 100 | I18: امتیاز پارامتر | J18: انتخاب صورتهای مالی | M18: امتیاز پارامتر از معیار | N18: نمره ارزیابی
A19: توان مالی | B19: ='اطلاعات پیمانکار'!K106 -> 0.3 | C19: میانگین فروش 3 سال گذشته | D19: =('اطلاعات پیمانکار'!J120) -> 0 | E19: فروش | F19: 45 | I19: =IFERROR(IF(D19/D20>=2,100,IF(D19/D20>=1,70,IF(D19/D20>0.5,40,10))),0) -> 0 | J19: 0 | M19: =(I19*F19)/100 -> 0 | N19: =M25*B19 -> 0
C20: مبلغ براورد استعلام | J20: 0
C21: دارایی های جاری | D21: =('اطلاعات پیمانکار'!J123) -> 0 | E21: نقدینگی | F21: 35 | I21: =IFERROR(IF(D21/D22>=1.5,100,IF(D21/D22>=1.2,70,IF(D21/D22>1,40,0))),0) -> 0 | J21: 0 | M21: =(I21*F21)/100 -> 0
C22: بدهی های جاری | D22: =('اطلاعات پیمانکار'!J124) -> 0 | J22: 0
C23: میانگین سود عملیاتی 3 سال گذشته | D23: =('اطلاعات پیمانکار'!J121) -> 0 | E23: حاشیه سود ناخالص | F23: 20 | I23: =IFERROR(IF(D23/D24>=0.07,100,IF(D23/D24>=0.03,70,IF(D23/D24<0.03,40,0))),0) -> 0 | J23: 0 | M23: =(I23*F23)/100 -> 0
C24: میانگین فروش 3 سال گذشته | D24: =D19 -> 0 | J24: 0
F25: =SUM(F19:F24) -> 100 | M25: =SUM(M19:M24) -> 0
A26: معیار | B26: وزن معیار | C26: معیار | E26: امتیاز از 100 | I26: مبلغ براورد استعلام | J26: مبلغ (مالیات / اعتبار بانکی/ درامد قراردادها | K26: متوسط مبلغ 5 سال گذشته (ریال) | M26: امتیاز پارامتر از معیار | N26: نمره ارزیابی | O26: توضیحات
A27: =A19 -> توان مالی | B27: =B19 -> 0.3 | C27: 50برابر مالیات سالیانه مستند به اظهار نامه | E27: 50 | J27: ='اطلاعات پیمانکار'!J149:K149 -> 0 | K27: =J27*E27 -> 0 | M27: =IFERROR((IF(((K30)/I27)>=1,1,((K30)/I27))),0) -> 0 | N27: =M27*B27*100 -> 0
C28: تأیید اعتبار بانکی یا موسسه مالی معتبر تا سقف مبلغ مناقصه | E28: 25 | J28: ='اطلاعات پیمانکار'!J150:K150 -> 0 | K28: =J28*E28 -> 0
C29: درآمد مستند به مبلغ قرارداد های جاری نسبت به مبلغ مناقصه | E29: 25 | J29: ='اطلاعات پیمانکار'!J151:K151 -> 0 | K29: =J29*E29 -> 0
K30: =SUM(K27:K29) -> 0 | M30: =SUM(M27:M29) -> 0
A31: معیار | B31: وزن معیار | C31: پارامتر ارزیابی (تجهزات اصلی | F31: حداکثر امتیاز هر پارامتر از 100 | I31: تعداد تجهیز مورد نیاز | J31: ملکی (1) ا | K31: اجاره کارگاه(40%) | M31: امتیاز پارامتر از معیار | N31: نمره ارزیابی کل | O31: توضیحات
A32: توان تجهیزاتی | B32: ='اطلاعات پیمانکار'!K154 -> 0.2 | C32: ='اطلاعات پیمانکار'!B163 -> مالکیت معدن | F32: ='اطلاعات پیمانکار'!D163 -> 35 | I32: ='اطلاعات پیمانکار'!C163 -> 1 | J32: ='اطلاعات پیمانکار'!E163 -> 0 | K32: =I32-J32 -> 1 | M32: =IFERROR(IF((I32=""),0,((F32/I32)*J32)+((F32/I32)*$B$32)*K32),0) -> 7 | N32: =IFERROR((SUM(M32:M36))*B32,0) -> 4
C33: ='اطلاعات پیمانکار'!B164 -> ابزار آلات تعمیراتی برق و. مکانیک | F33: ='اطلاعات پیمانکار'!D164 -> 35 | I33: ='اطلاعات پیمانکار'!C164 -> 1 | J33: ='اطلاعات پیمانکار'!E164 -> 0 | K33: =I33-J33 -> 1 | M33: =IFERROR(IF((I33=""),0,((F33/I33)*J33)+((F33/I33)*$B$32)*K33),0) -> 7
C34: ='اطلاعات پیمانکار'!B165 -> لودر | F34: ='اطلاعات پیمانکار'!D165 -> 10 | I34: ='اطلاعات پیمانکار'!C165 -> 2 | J34: ='اطلاعات پیمانکار'!E165 -> 0 | K34: =I34-J34 -> 2 | M34: =IFERROR(IF((I34=""),0,((F34/I34)*J34)+((F34/I34)*$B$32)*K34),0) -> 2
C35: ='اطلاعات پیمانکار'!B166 -> تانکر آب پاش و مکنده و تجهیزات نظافت صنعتی | F35: ='اطلاعات پیمانکار'!D166 -> 10 | I35: ='اطلاعات پیمانکار'!C166 -> 1 | J35: ='اطلاعات پیمانکار'!E166 -> 0 | K35: =I35-J35 -> 1 | M35: =IFERROR(IF((I35=""),0,((F35/I35)*J35)+((F35/I35)*$B$32)*K35),0) -> 2
C36: ='اطلاعات پیمانکار'!B167 -> کمپرسی و لیفتراک | F36: ='اطلاعات پیمانکار'!D167 -> 10 | I36: ='اطلاعات پیمانکار'!C167 -> 1 | J36: ='اطلاعات پیمانکار'!E167 -> 0 | K36: =I36-J36 -> 1 | M36: =IFERROR(IF((I36=""),0,((F36/I36)*J36)+((F36/I36)*$B$32)*K36),0) -> 2
F37: =SUM(F32:F36) -> 100 | I37: =SUM(I32:I36) -> 6 | J37: =SUM(J32:J36) -> 0
A38: معیار | B38: وزن معیار | C38: متراژ کارگاه | F38: حداکثر امتیاز هر پارامتر از 100 | I38: تعداد کارگاه | J38: مالک کارگاه | K38: اجاره کارگاه(40%) | M38: مجموع امتیاز | N38: نمره ارزیابی | O38: توضیحات
A39: کارگاه | B39: ='اطلاعات پیمانکار'!B170 -> 0 | C39: ='اطلاعات پیمانکار'!C176 -> 0 | F39: 100 | I39: ='اطلاعات پیمانکار'!C176 -> 0 | J39: ='اطلاعات پیمانکار'!F176 -> 0 | K39: ='اطلاعات پیمانکار'!G176 -> 0 | M39: =IFERROR(_xlfn.IFS(I39="",0,J39>=1,J39*F39*B39,K39>=1,K39*0.4*F39*B39),0) -> 0 | N39: =M39 -> 0
K40: =SUM(K32:K39) -> 6 | M40: =M39 -> 0
...
