Workbook
Name _Hlk207793680: 'اطلاعات پیمانکار'!$A$192

Sheet اطلاعات پیمانکار
A1: شرکت فولاد مبارکه | C1: فرم ارزيابي کيفـي | I1: تاريخ:
I2: شماره:
I3: صفحه 1 از 14
A4: شماره مناقصه عمومی : | B4: 48630706 | E4: برآورد مناقصه : | H4: 33000000000
A5: موضوع مناقصه : | B5: برنامه ریزی و اجرای آموزش استدلال در شرکت فولاد مبارکه
A6: ضمن عرض سلام؛
A7: از اینکه تمایل خود را جهت همکاری با مجتمع فولاد مبارکه اصفهان اعلام می­دارید کمال تشکر را داریم.
A8: لطفا با توجه به نوع فعاليت خود، نسبت به تكميل اطلاعات مندرج در چك ليست زير اقدام فرماييد. تأمين کننده (مدير عامل يا رئيس هيئت مديره) متعهد مي‌باشد کليه موارد مندرج در فرم را تکميل و به امضاهای مجاز رسانده و هم­چنین به مهر شرکت ممهور گرداند.
A9: در صورت نیاز به اطلاعات بیشتر می­توانید با شرکت فولاد مبارکه اصفهان (شماره تلفن مندرج در آگهي) تماس حاصل فرمایید.
A10: اطلاعات عمومی
A11: موضوع اساسنامه (*):
A12: مشخصات پيمانكار:
A13: نام قانوني (شرکت): | H13: تاريخ تاسيس:
A14: کد تأمين کننده: . . . . . . . . . . . . . . . . . . . . . . . . . . . . .
A15: نوع مالکيت: □ دولتی □ خصوصی □ تحت پوشش
A16: وضعيت حقوقي/حقيقي: □ سهامی عام □ سهامی خاص □ مسئوليت محدود □ ساير با ذکر نام: . . . . . . . . . . . . . . . . .
A17: گرايش و رتبه بندي سازمان مدیریت و برنامه‌ریزی کشور :
A18: آدرس (ها) و خطوط ارتباطي شرکت، شعب و نمايندگي (ها)، شرکت مادر و گروه شرکت هاي وابسته:
A20: پست الكترونيكي | B20: تلفن همراه | C20: فاكس | D20: تلفن به همراه كد | E20: آدرس | H20: شهر | I20: استان | J20: نوع آدرس
J21: دفتر مركزي
J22: کارخانه يا کارگاه
A23: *در صورت عدم انطباق موضوع اساسنامه با موضوع فراخوان، پیمانکار مورد ارزيابي کيفي قرار نگرفته و شرکت فولادمبارکه هيچگونه مسئوليتي در اين خصوص نخواهد داشت
A24: لیست اسناد و مدارک عمومی ارزیابی کیفی مناقصه گزاران که می بایست تحویل کارفرما گردد.
A25: مناقصه گزاران محترم ؛ لطفاً مستندات به صورت 4 فایل جداگانه با تیتر های توان اجرایی (تجربه و سابقه)،توان مالی توان تجهیزاتی و توان مدیریتی به صورت PDF به ترتیب ردیفهای جداول مندرج در این فایل در سیستم بارگذاری گردد. در غیر اینصورت ترتیب اثر داده نخواهد شد.
D27: چک لیست مناقصه گزار | F27: چک لیست مناقصه گزار (کارفرما)
D28: وضعیت کنترل اسناد | F28: وضعیت کنترل اسناد
A29: نام فرم ارزیابی | C29: عنوان سند/ مدرک/ گواهی | D29: ارائه گردید | E29: ارائه نگردید | F29: تکمیل است | G29: ناقص است | H29: عدم ارائه | I29: توضیحات
A31: اسناد و مدارک عمومی ارزیابی کیفی مناقصه گزاران | B31: 1 | C31: نامه درخواست شرکت متقاضی/ مناقصه گزار جهت شرکت در مناقصه
B32: 2 | C32: اساسنامه شرکت
C33: *برای مناقصاتی که موضوع قرارداد در کارگاه پیمانکار انجام میگردد ارسال پروانه ی بهره برداری الزامی میباشد.
B34: 3 | C34: روزنامه رسمی آگهی تاسیس شرکت
B35: 4 | C35: روزنامه رسمی آگهی آخرین تغییرات شرکت
B36: 5 | C36: تصویرشناسنامه و کارت ملی آخرین اعضا هیات مدیره شرکت
B37: 6 | C37: تصویر کد اقتصادی و شناسه ملی شرکت مناقصه گزار
B38: 7 | C38: صلاحیت اداره کار و امور اجتماعی مرتبط با موضوع مناقصه و دارای اعتبار زمانی
B39: 8 | C39: تصویر گواهی تشخیص صلاحیت و رتبه بندی از سازمان مدیریت و برنامه ریزی کشور
B40: 9 | C40: گواهی نامه های سیستم‌های مدیریتی
B41: 10 | C41: سوابق اجرایی
B42: 11 | C42: لیست مشخصات هیات مدیره و افراد کلیدی در سازمان مناقصه گر
A44: نکات عمومی و قابل توجه :
...

Sheet Sheet1
A2: 1406
A3: 1405 | B3: 1
A4: 1404 | B4: 2 | C4: 100
A5: 1403 | B5: 3 | C5: 70
A6: 1402 | B6: 4 | C6: 40
A7: 1401 | B7: 5 | C7: 20
B8: 6
B9: 7
B10: 8
B11: 9
B12: 10
B13: 11
B14: 12

Sheet Sheet2
A3: بله | B3: کارشناس مکانیک | C3: دکترا
A4: خیر | B4: کارشناس برق | C4: فوق لیسانس
B5: کارشناس راه و ساختمان | C5: کارشناس
B6: تکنسین | C6: فوق دیپلم
B7: تخصص در تعمیرات | C7: دیپلم
B8: سایر | C8: زیر دیپلم

Sheet c
B1: بسمه تعالی
B2: موضوع مناقصه : | C2: =b!B2 -> برنامه ریزی و اجرای آموزش استدلال در شرکت فولاد مبارکه
B3: شماره درخواست: | C3: =b!K2 -> 48630706
B4: مبلغ درخواست : | C4: =b!N3 -> 33000000000
B5: ناحیه متقاضی : | C5: =b!F3 -> 0
B6: حداقل امتیاز قابل قبول: | C6: (هفتاد از یکصد) 70
B7: تایید کنندگان :
B8: در این جلسه نتایج ارزیابی پیمانکاران توسط گروه کارشناسی بررسی گردید و نتایج زیر بدست امد.
B9: میانگین نمره ارزیابی پیمانکاران از لحاظ فنی و بازرگانی به شرح زیر می باشد:
A12: نام شیت | B12: نام مناقصه گر | C12: نمره کل | D12: میانگین نمرات ارزیابی از 100 | E12: توضیحات
D13: =IF(tblSummary[[#This Row],[نمره کل]]=0,"غيره مرتبط مي باشد",IF(tblSummary[[#This Row],[نمره کل]]>=70,"حدنصاب امتياز قابل قبول مي‌باشد","مورد تاييد نمي‌باشد")) -> غيره مرتبط مي باشد
B15: تعمیرگاه مرکزی | D15: امور قراردادها
B16: مدیر ناحیه | D16: مدیر امور قراردادها
B17: رئیس گروه فنی | D17: رئیس امور قراردادها
B18: رئیس کارگاه | D18: کارشناس امور قراردادها
B19: کارشناس گروه فنی | D19: تکنسین امور قراردادها
B20: کارشناس کارگاه

Sheet b
A1: بسمه تعالی
A2: موضوع مناقصه: | B2: ='اطلاعات پیمانکار'!B5 -> برنامه ریزی و اجرای آموزش استدلال در شرکت فولاد مبارکه | J2: شماره درخواست: | K2: ='اطلاعات پیمانکار'!B4 -> 48630706 | N2: تاریخ ارزیابی: 1405/08/01
A3: نام مناقصه گر: | B3: ='اطلاعات پیمانکار'!B13:G13 -> 0 | E3: مدیریت درخواست کننده: | K3: مبلغ برآورد مناقصه(ریال): | N3: ='اطلاعات پیمانکار'!H4 -> 33000000000
A4: *کابر محترم فیلدهایی که با رنگ زرد مشخص شده را تکمیل نمائید*
B5: 1 | C5: ضریب قراردادهای مشابه | D5: 0.7 | I5: 2 | J5: 3 | K5: 4 | M5: 5 | N5: 6
A6: معیار | B6: وزن معیار | C6: پارامتر ارزیابی | D6: موضوع قرارداد | E6: مبلغ قراردادها | F6: انتخاب (مشابه/مرتبط/غیره مرتبط) | G6: ضریب قراردادهای مشابه | H6: مبلغ قرارداد با ضریب مشابه | I6: مشابه (100% )معادل25 امتیاز | J6: مرتبط ( 60%) معادل 15 امتیاز | K6: غیر مرتبط ( 30%) معادل 6 امتیاز | L6: جمع امتیاز مشابه | M6: امتیاز پارامتر از معیار | N6: نمره ارزیابی | O6: توضیحات | U6: _
A7: توان اجرایی(سابقه) | B7: ='اطلاعات پیمانکار'!J61 -> 0.3 | C7: قرارداد اول | D7: ='اطلاعات پیمانکار'!B74 -> 0 | E7: =(IFERROR(('اطلاعات پیمانکار'!H74)*(1.3^(1405-'اطلاعات پیمانکار'!E74)),0)) -> 0 | F7: مشابه | G7: =$D$5 -> 0.7 | H7: =G7*$N$3 -> 23100000000 | I7: =MIN(IF((F7="مشابه "),(E7/H7)*25,0),25) -> 0 | J7: =MIN(IF((F7="مرتبط"),(E7/$N$3)*15,0),15) -> 0 | K7: =MIN(IF((F7="غیره مرتبط"),(E7/$N$3)*6,0),6) -> 0 | L7: =I7 -> 0 | M7: =SUM(I7:K7) -> 0 | N7: =IF(L11>=60,100*B7,M11*B7) -> 0 | U7: مشابه
C8: قرارداد دوم | D8: ='اطلاعات پیمانکار'!B75 -> 0 | E8: =(IFERROR(('اطلاعات پیمانکار'!H75)*(1.3^(1405-'اطلاعات پیمانکار'!E75)),0)) -> 0 | F8: مشابه | G8: =$D$5 -> 0.7 | H8: =G8*$N$3 -> 23100000000 | I8: =MIN(IF((F8="مشابه "),(E8/H8)*25,0),25) -> 0 | J8: =MIN(IF((F8="مرتبط"),(E8/$N$3)*15,0),15) -> 0 | K8: =MIN(IF((F8="غیره مرتبط"),(E8/$N$3)*6,0),6) -> 0 | L8: =I8 -> 0 | M8: =SUM(I8:K8) -> 0 | U8: مرتبط
C9: قرارداد سوم | D9: ='اطلاعات پیمانکار'!B76 -> 0 | E9: =(IFERROR(('اطلاعات پیمانکار'!H76)*(1.3^(1405-'اطلاعات پیمانکار'!E76)),0)) -> 0 | F9: مرتبط | G9: =$D$5 -> 0.7 | H9: =G9*$N$3 -> 23100000000 | I9: =MIN(IF((F9="مشابه "),(E9/H9)*25,0),25) -> 0 | J9: =MIN(IF((F9="مرتبط"),(E9/$N$3)*15,0),15) -> 0 | K9: =MIN(IF((F9="غیره مرتبط"),(E9/$N$3)*6,0),6) -> 0 | L9: =I9 -> 0 | M9: =SUM(I9:K9) -> 0 | U9: غیره مرتبط
C10: قراردادچهارم | D10: ='اطلاعات پیمانکار'!B77 -> 0 | E10: =(IFERROR(('اطلاعات پیمانکار'!H77)*(1.3^(1405-'اطلاعات پیمانکار'!E77)),0)) -> 0 | F10: مرتبط | G10: =$D$5 -> 0.7 | H10: =G10*$N$3 -> 23100000000 | I10: =MIN(IF((F10="مشابه "),(E10/H10)*25,0),25) -> 0 | J10: =MIN(IF((F10="مرتبط"),(E10/$N$3)*15,0),15) -> 0 | K10: =MIN(IF((F10="غیره مرتبط"),(E10/$N$3)*6,0),6) -> 0 | L10: =I10 -> 0 | M10: =SUM(I10:K10) -> 0
I11: =MIN(IF((F11="مشابه "),(E11/H11)*25,0),25) -> 0 | L11: =SUM(L7:L10) -> 0 | M11: =SUM(M7:M10) -> 0
I12: =MIN(IF((F12="مشابه "),(E12/H12)*25,0),25) -> 0
I13: =MIN(IF((F13="مشابه "),(E13/H13)*25,0),25) -> 0 | J13: 1 | K13: 2 | M13: 3 | N13: 4
A14: معیار | B14: وزن معیار | C14: انتخاب یکی از پارامترهای ارزیابی | E14: انتخاب گزینه | F14: امتیاز از 100 | I14: یک امتیاز پارامتر ثبت کنید | J14: امتیاز پارامتر از معیار | N14: نمره ارزیابی | O14: توضیحات
A15: توان مالی | B15: ='اطلاعات پیمانکار'!K106 -> 0.35 | C15: صورتهای مالی حسابرسی شده | F15: 15 | J15: =(I15*$F$15/100)*$B$15 -> 0 | N15: =J19 -> 0 | P15: =B2 -> برنامه ریزی و اجرای آموزش استدلال در شرکت فولاد مبارکه | Q15: =B3 -> 0
C16: صورتهای مالی حسابرسی نشده | J16: =(I16*$F$15/100)*$B$15 -> 0 | P16: =B3 -> 0 | Q16: =#REF! -> #REF!
C17: بدون حسابرسی دارای اظهارنامه مالیاتی | J17: =(I17*$F$15/100)*$B$15 -> 0
C18: صرفا صورتهای مالی داخلی | J18: =(I18*$F$15/100)*$B$15 -> 0
J19: =SUM(J15:M18) -> 0
C20: معیار | D20: مبلغ معیار به ریال | E20: پارامتر | F20: امتیاز از 100 | I20: امتیاز پارامتر | J20: انتخاب صورتهای مالی | M20: امتیاز پارامتر از معیار | N20: نمره ارزیابی
C21: میانگین فروش 3 سال گذشته | D21: =('اطلاعات پیمانکار'!J122) -> 0 | E21: فروش | F21: 40 | I21: =IFERROR(IF(D21/D22>=2,100,IF(D21/D22>=1,70,IF(D21/D22>0.5,40,10))),0) -> 10 | J21: 0 | M21: =(I21*F21)/100 -> 4 | N21: =M27*B15 -> 1.4
C22: مبلغ براورد استعلام | D22: =N3 -> 33000000000 | J22: 0
C23: دارایی های جاری | D23: =('اطلاعات پیمانکار'!J125) -> 0 | E23: نقدینگی | F23: 30 | I23: =IFERROR(IF(D23/D24>=1.5,100,IF(D23/D24>=1.2,70,IF(D23/D24>1,40,0))),0) -> 0 | J23: 0 | M23: =(I23*F23)/100 -> 0
C24: بدهی های جاری | D24: =('اطلاعات پیمانکار'!J126) -> 0 | J24: 0
C25: میانگین سود عملیاتی 3 سال گذشته | D25: =('اطلاعات پیمانکار'!J123) -> 0 | E25: حاشیه سود ناخالص | F25: 15 | I25: =IFERROR(IF(D25/D26>=0.07,100,IF(D25/D26>=0.03,70,IF(D25/D26<0.03,40,0))),0) -> 0 | J25: 0 | M25: =(I25*F25)/100 -> 0
C26: میانگین فروش 3 سال گذشته | D26: =D21 -> 0 | J26: 0
F27: =SUM(F21:F26) -> 85 | M27: =SUM(M21:M26) -> 4
A28: معیار | B28: وزن معیار | C28: پارامتر ارزیابی (تجهزات اصلی | F28: حداکثر امتیاز هر پارامتر از 100 | I28: تعداد تجهیز مورد نیاز | J28: ملکی (1) ا | K28: اجاره کارگاه(40%) | M28: امتیاز پارامتر از معیار | N28: نمره ارزیابی کل | O28: توضیحات
A29: توان تجهیزاتی | B29: ='اطلاعات پیمانکار'!K149 -> 0.15 | C29: ='اطلاعات پیمانکار'!B158 -> دفتر اداری | F29: ='اطلاعات پیمانکار'!D158 -> 10 | I29: ='اطلاعات پیمانکار'!C158 -> 1 | J29: ='اطلاعات پیمانکار'!E158 -> 0 | K29: =I29-J29 -> 1 | M29: =IFERROR(IF((I29=""),0,((F29/I29)*J29)+((F29/I29)*$B$29)*K29),0) -> 1.5 | N29: =IFERROR((SUM(M29:M33))*B29,0) -> 2.25
C30: ='اطلاعات پیمانکار'!B159 -> کلاس آموزشی | F30: ='اطلاعات پیمانکار'!D159 -> 60 | I30: ='اطلاعات پیمانکار'!C159 -> 3 | J30: ='اطلاعات پیمانکار'!E159 -> 0 | K30: =I30-J30 -> 3 | M30: =IFERROR(IF((I30=""),0,((F30/I30)*J30)+((F30/I30)*$B$29)*K30),0) -> 9
C31: ='اطلاعات پیمانکار'!B160 -> فضای آموزشی و کارگاهی | F31: ='اطلاعات پیمانکار'!D160 -> 20 | I31: ='اطلاعات پیمانکار'!C160 -> 1 | J31: ='اطلاعات پیمانکار'!E160 -> 0 | K31: =I31-J31 -> 1 | M31: =IFERROR(IF((I31=""),0,((F31/I31)*J31)+((F31/I31)*$B$29)*K31),0) -> 3
C32: ='اطلاعات پیمانکار'!B161 -> سالن همایش | F32: ='اطلاعات پیمانکار'!D161 -> 10 | I32: ='اطلاعات پیمانکار'!C161 -> 1 | J32: ='اطلاعات پیمانکار'!E161 -> 0 | K32: =I32-J32 -> 1 | M32: =IFERROR(IF((I32=""),0,((F32/I32)*J32)+((F32/I32)*$B$29)*K32),0) -> 1.5
C33: ='اطلاعات پیمانکار'!B162 -> 0 | F33: ='اطلاعات پیمانکار'!D162 -> 0 | I33: ='اطلاعات پیمانکار'!C162 -> 0 | J33: ='اطلاعات پیمانکار'!E162 -> 0 | K33: =I33-J33 -> 0 | M33: =IFERROR(IF((I33=""),0,((F33/I33)*J33)+((F33/I33)*$B$29)*K33),0) -> 0
F34: =SUM(F29:F33) -> 100 | I34: =SUM(I29:I33) -> 6 | J34: =SUM(J29:J33) -> 0
A35: معیار | B35: وزن معیار | C35: متراژ کارگاه | F35: حداکثر امتیاز هر پارامتر از 100 | I35: تعداد کارگاه | J35: مالک کارگاه | K35: اجاره کارگاه(40%) | M35: مجموع امتیاز | N35: نمره ارزیابی | O35: توضیحات
A36: کارگاه | B36: ='اطلاعات پیمانکار'!B165 -> 0 | C36: ='اطلاعات پیمانکار'!C171 -> 0 | F36: 100 | I36: ='اطلاعات پیمانکار'!C171 -> 0 | J36: ='اطلاعات پیمانکار'!F171 -> 0 | K36: ='اطلاعات پیمانکار'!G171 -> 0 | M36: =IFERROR(_xlfn.IFS(I36="",0,J36>=1,J36*F36*B36,K36>=1,K36*0.4*F36*B36),0) -> 0 | N36: =M36 -> 0
K37: =SUM(K29:K36) -> 6 | M37: =M36 -> 0
A38: معیار | B38: وزن معیار | C38: پارامتر ارزیابی | J38: حداکثر امتیاز | K38: امتیاز پارامتر | M38: مجموع امتیاز | N38: نمره ارزیابی | O38: توضیحات
A39: توان مدیریتی | B39: ='اطلاعات پیمانکار'!K175 -> 0.2 | C39: گواهی نامه هاو رتبه بندی سازمان برنامه و بودجه | J39: ='اطلاعات پیمانکار'!F193 -> 20 | K39: ='اطلاعات پیمانکار'!D199 -> 0 | M39: =SUM(K39:K43) -> 0 | N39: =M39*B39 -> 0
C40: گواهی نامه های سیستم های مدیریتی | J40: ='اطلاعات پیمانکار'!E200 -> 10 | K40: ='اطلاعات پیمانکار'!B206 -> 0
...
